Package: GUIDEseq Version: 1.37.0 Command: /Library/Frameworks/R.framework/Resources/bin/R CMD build --keep-empty-dirs --no-resave-data GUIDEseq StartedAt: 2025-02-09 16:33:49 -0500 (Sun, 09 Feb 2025) EndedAt: 2025-02-09 16:34:30 -0500 (Sun, 09 Feb 2025) EllapsedTime: 41.5 seconds RetCode: 0 Status: OK PackageFile: GUIDEseq_1.37.0.tar.gz PackageFileSize: 5.868 MiB