Package: GUIDEseq Version: 1.37.0 Command: /Library/Frameworks/R.framework/Resources/bin/R CMD INSTALL GUIDEseq StartedAt: 2025-02-09 15:27:20 -0500 (Sun, 09 Feb 2025) EndedAt: 2025-02-09 15:27:41 -0500 (Sun, 09 Feb 2025) EllapsedTime: 20.8 seconds RetCode: 0 Status: OK