Package: GUIDEseq Version: 1.37.0 Command: /home/biocbuild/R/R/bin/R CMD build --keep-empty-dirs --no-resave-data GUIDEseq StartedAt: 2025-01-28 23:27:33 -0000 (Tue, 28 Jan 2025) EndedAt: 2025-01-28 23:29:34 -0000 (Tue, 28 Jan 2025) EllapsedTime: 121.1 seconds RetCode: 0 Status: OK PackageFile: GUIDEseq_1.37.0.tar.gz PackageFileSize: 5.861 MiB