Package: GUIDEseq Version: 1.37.0 Command: /home/biocbuild/R/R/bin/R CMD check --install=check:GUIDEseq.install-out.txt --library=/home/biocbuild/R/R/site-library --no-vignettes --timings GUIDEseq_1.37.0.tar.gz StartedAt: 2025-01-28 11:20:56 -0000 (Tue, 28 Jan 2025) EndedAt: 2025-01-28 11:31:18 -0000 (Tue, 28 Jan 2025) EllapsedTime: 622.6 seconds RetCode: 0 Status: WARNINGS CheckDir: GUIDEseq.Rcheck Warnings: 5