Package: GUIDEseq Version: 1.37.0 Command: /home/biocbuild/R/R/bin/R CMD INSTALL GUIDEseq StartedAt: 2025-01-29 20:33:15 -0000 (Wed, 29 Jan 2025) EndedAt: 2025-01-29 20:34:28 -0000 (Wed, 29 Jan 2025) EllapsedTime: 72.9 seconds RetCode: 0 Status: OK