Package: GUIDEseq Version: 1.37.0 Command: /Library/Frameworks/R.framework/Resources/bin/R CMD check --install=check:GUIDEseq.install-out.txt --library=/Library/Frameworks/R.framework/Resources/library --no-vignettes --timings GUIDEseq_1.37.0.tar.gz StartedAt: 2025-02-09 21:10:10 -0500 (Sun, 09 Feb 2025) EndedAt: 2025-02-09 21:19:44 -0500 (Sun, 09 Feb 2025) EllapsedTime: 574.6 seconds RetCode: 0 Status: OK CheckDir: GUIDEseq.Rcheck Warnings: 0