Package: GUIDEseq Version: 1.37.0 Command: /Library/Frameworks/R.framework/Resources/bin/R CMD INSTALL GUIDEseq StartedAt: 2025-02-09 15:43:27 -0500 (Sun, 09 Feb 2025) EndedAt: 2025-02-09 15:44:36 -0500 (Sun, 09 Feb 2025) EllapsedTime: 69.8 seconds RetCode: 0 Status: OK