Package: GUIDEseq Version: 1.37.0 Command: /home/biocbuild/bbs-3.21-bioc/R/bin/R CMD build --keep-empty-dirs --no-resave-data GUIDEseq StartedAt: 2025-02-09 17:33:32 -0500 (Sun, 09 Feb 2025) EndedAt: 2025-02-09 17:35:12 -0500 (Sun, 09 Feb 2025) EllapsedTime: 100.2 seconds RetCode: 0 Status: OK PackageFile: GUIDEseq_1.37.0.tar.gz PackageFileSize: 5.869 MiB