Package: GUIDEseq Version: 1.37.0 Command: /home/biocbuild/bbs-3.21-bioc/R/bin/R CMD INSTALL GUIDEseq StartedAt: 2025-02-09 15:51:44 -0500 (Sun, 09 Feb 2025) EndedAt: 2025-02-09 15:52:35 -0500 (Sun, 09 Feb 2025) EllapsedTime: 50.9 seconds RetCode: 0 Status: OK