Package: GUIDEseq Version: 1.37.0 Command: chmod a+r GUIDEseq -R && E:\biocbuild\bbs-3.21-bioc\R\bin\R.exe CMD build --keep-empty-dirs --no-resave-data GUIDEseq StartedAt: 2025-02-09 19:08:09 -0500 (Sun, 09 Feb 2025) EndedAt: 2025-02-09 19:10:28 -0500 (Sun, 09 Feb 2025) EllapsedTime: 139.1 seconds RetCode: 0 Status: OK PackageFile: GUIDEseq_1.37.0.tar.gz PackageFileSize: 5.87 MiB