Package: GUIDEseq Version: 1.37.0 Command: E:\biocbuild\bbs-3.21-bioc\R\bin\R.exe CMD check --no-multiarch --install=check:GUIDEseq.install-out.txt --library=E:\biocbuild\bbs-3.21-bioc\R\library --no-vignettes --timings GUIDEseq_1.37.0.tar.gz StartedAt: 2025-02-10 01:48:30 -0500 (Mon, 10 Feb 2025) EndedAt: 2025-02-10 01:58:46 -0500 (Mon, 10 Feb 2025) EllapsedTime: 616.5 seconds RetCode: 0 Status: OK CheckDir: GUIDEseq.Rcheck Warnings: 0