Package: GWENA Version: 1.17.0 Command: rm -rf GWENA.buildbin-libdir && mkdir GWENA.buildbin-libdir && /Users/biocbuild/BBS/utils/build-universal.sh GWENA_1.17.0.tar.gz /Library/Frameworks/R.framework/Resources/bin/R GWENA.buildbin-libdir StartedAt: 2025-02-04 22:18:52 -0500 (Tue, 04 Feb 2025) EndedAt: 2025-02-04 22:19:08 -0500 (Tue, 04 Feb 2025) EllapsedTime: 16.4 seconds RetCode: 0 Status: OK PackageFile: GWENA_1.17.0.tgz PackageFileSize: 4.66 MiB