Package: GWENA Version: 1.17.0 Command: /Library/Frameworks/R.framework/Resources/bin/R CMD build --keep-empty-dirs --no-resave-data GWENA StartedAt: 2025-02-04 16:34:47 -0500 (Tue, 04 Feb 2025) EndedAt: 2025-02-04 16:35:37 -0500 (Tue, 04 Feb 2025) EllapsedTime: 50.4 seconds RetCode: 0 Status: OK PackageFile: GWENA_1.17.0.tar.gz PackageFileSize: 4.673 MiB