Package: GWENA Version: 1.17.0 Command: /home/biocbuild/R/R/bin/R CMD build --keep-empty-dirs --no-resave-data GWENA StartedAt: 2025-01-28 23:29:31 -0000 (Tue, 28 Jan 2025) EndedAt: 2025-01-28 23:30:46 -0000 (Tue, 28 Jan 2025) EllapsedTime: 75.0 seconds RetCode: 1 Status: ERROR PackageFile: None PackageFileSize: NA