Package: GWENA Version: 1.17.0 Command: rm -rf GWENA.buildbin-libdir && mkdir GWENA.buildbin-libdir && /Users/biocbuild/BBS/utils/build-universal.sh GWENA_1.17.0.tar.gz /Library/Frameworks/R.framework/Resources/bin/R GWENA.buildbin-libdir StartedAt: 2025-02-04 00:37:45 -0500 (Tue, 04 Feb 2025) EndedAt: 2025-02-04 00:38:36 -0500 (Tue, 04 Feb 2025) EllapsedTime: 50.8 seconds RetCode: 0 Status: OK PackageFile: GWENA_1.17.0.tgz PackageFileSize: 4.659 MiB