Package: GWENA Version: 1.17.0 Command: /Library/Frameworks/R.framework/Resources/bin/R CMD build --keep-empty-dirs --no-resave-data GWENA StartedAt: 2025-02-03 17:01:38 -0500 (Mon, 03 Feb 2025) EndedAt: 2025-02-03 17:03:38 -0500 (Mon, 03 Feb 2025) EllapsedTime: 119.9 seconds RetCode: 0 Status: OK PackageFile: GWENA_1.17.0.tar.gz PackageFileSize: 4.674 MiB