Package: GWENA Version: 1.17.0 Command: /Library/Frameworks/R.framework/Resources/bin/R CMD check --install=check:GWENA.install-out.txt --library=/Library/Frameworks/R.framework/Resources/library --no-vignettes --timings GWENA_1.17.0.tar.gz StartedAt: 2025-02-09 21:11:57 -0500 (Sun, 09 Feb 2025) EndedAt: 2025-02-09 21:21:25 -0500 (Sun, 09 Feb 2025) EllapsedTime: 567.6 seconds RetCode: 0 Status: WARNINGS CheckDir: GWENA.Rcheck Warnings: 2