Package: GWENA Version: 1.17.0 Command: /home/biocbuild/bbs-3.21-bioc/R/bin/R CMD build --keep-empty-dirs --no-resave-data GWENA StartedAt: 2025-02-09 17:34:36 -0500 (Sun, 09 Feb 2025) EndedAt: 2025-02-09 17:36:24 -0500 (Sun, 09 Feb 2025) EllapsedTime: 108.3 seconds RetCode: 0 Status: OK PackageFile: GWENA_1.17.0.tar.gz PackageFileSize: 4.793 MiB