Package: GWENA Version: 1.17.0 Command: /home/biocbuild/bbs-3.21-bioc/R/bin/R CMD check --install=check:GWENA.install-out.txt --library=/home/biocbuild/bbs-3.21-bioc/R/site-library --timings GWENA_1.17.0.tar.gz StartedAt: 2025-02-03 23:07:11 -0500 (Mon, 03 Feb 2025) EndedAt: 2025-02-03 23:17:31 -0500 (Mon, 03 Feb 2025) EllapsedTime: 620.1 seconds RetCode: 0 Status: WARNINGS CheckDir: GWENA.Rcheck Warnings: 2