Package: GWENA Version: 1.17.0 Command: E:\biocbuild\bbs-3.21-bioc\R\bin\R.exe CMD check --no-multiarch --install=check:GWENA.install-out.txt --library=E:\biocbuild\bbs-3.21-bioc\R\library --no-vignettes --timings GWENA_1.17.0.tar.gz StartedAt: 2025-02-04 02:18:50 -0500 (Tue, 04 Feb 2025) EndedAt: 2025-02-04 02:28:14 -0500 (Tue, 04 Feb 2025) EllapsedTime: 564.3 seconds RetCode: 0 Status: WARNINGS CheckDir: GWENA.Rcheck Warnings: 2