Package: GWENA Version: 1.17.0 Command: E:\biocbuild\bbs-3.21-bioc\R\bin\R.exe CMD INSTALL GWENA StartedAt: 2025-02-09 16:07:40 -0500 (Sun, 09 Feb 2025) EndedAt: 2025-02-09 16:08:30 -0500 (Sun, 09 Feb 2025) EllapsedTime: 49.2 seconds RetCode: 0 Status: OK