Package: GateFinder Version: 1.27.0 Command: /Library/Frameworks/R.framework/Resources/bin/R CMD check --install=check:GateFinder.install-out.txt --library=/Library/Frameworks/R.framework/Resources/library --no-vignettes --timings GateFinder_1.27.0.tar.gz StartedAt: 2025-02-09 19:17:56 -0500 (Sun, 09 Feb 2025) EndedAt: 2025-02-09 19:18:24 -0500 (Sun, 09 Feb 2025) EllapsedTime: 28.4 seconds RetCode: 0 Status: WARNINGS CheckDir: GateFinder.Rcheck Warnings: 1