Package: GateFinder Version: 1.27.0 Command: /Library/Frameworks/R.framework/Resources/bin/R CMD INSTALL GateFinder StartedAt: 2025-02-09 15:04:04 -0500 (Sun, 09 Feb 2025) EndedAt: 2025-02-09 15:04:08 -0500 (Sun, 09 Feb 2025) EllapsedTime: 4.5 seconds RetCode: 0 Status: OK