Package: GateFinder Version: 1.27.0 Command: rm -rf GateFinder.buildbin-libdir && mkdir GateFinder.buildbin-libdir && /Users/biocbuild/BBS/utils/build-universal.sh GateFinder_1.27.0.tar.gz /Library/Frameworks/R.framework/Resources/bin/R GateFinder.buildbin-libdir StartedAt: 2025-02-10 00:54:21 -0500 (Mon, 10 Feb 2025) EndedAt: 2025-02-10 00:54:42 -0500 (Mon, 10 Feb 2025) EllapsedTime: 20.9 seconds RetCode: 0 Status: OK PackageFile: GateFinder_1.27.0.tgz PackageFileSize: 963.8 KiB