Package: GateFinder Version: 1.27.0 Command: /Library/Frameworks/R.framework/Resources/bin/R CMD build --keep-empty-dirs --no-resave-data GateFinder StartedAt: 2025-02-09 16:48:58 -0500 (Sun, 09 Feb 2025) EndedAt: 2025-02-09 16:49:27 -0500 (Sun, 09 Feb 2025) EllapsedTime: 28.7 seconds RetCode: 0 Status: OK PackageFile: GateFinder_1.27.0.tar.gz PackageFileSize: 581.6 KiB