Package: GateFinder Version: 1.27.0 Command: /home/biocbuild/bbs-3.21-bioc/R/bin/R CMD build --keep-empty-dirs --no-resave-data GateFinder StartedAt: 2025-02-09 17:18:53 -0500 (Sun, 09 Feb 2025) EndedAt: 2025-02-09 17:19:12 -0500 (Sun, 09 Feb 2025) EllapsedTime: 19.0 seconds RetCode: 0 Status: OK PackageFile: GateFinder_1.27.0.tar.gz PackageFileSize: 581.9 KiB