Package: GateFinder Version: 1.27.0 Command: /home/biocbuild/bbs-3.21-bioc/R/bin/R CMD INSTALL GateFinder StartedAt: 2025-02-09 15:14:05 -0500 (Sun, 09 Feb 2025) EndedAt: 2025-02-09 15:14:18 -0500 (Sun, 09 Feb 2025) EllapsedTime: 13.2 seconds RetCode: 0 Status: OK