Package: GateFinder Version: 1.27.0 Command: rm -rf GateFinder.buildbin-libdir && mkdir GateFinder.buildbin-libdir && E:\biocbuild\bbs-3.21-bioc\R\bin\R.exe CMD INSTALL --build --library=GateFinder.buildbin-libdir GateFinder_1.27.0.tar.gz StartedAt: 2025-02-10 07:47:03 -0500 (Mon, 10 Feb 2025) EndedAt: 2025-02-10 07:47:28 -0500 (Mon, 10 Feb 2025) EllapsedTime: 25.1 seconds RetCode: 0 Status: OK PackageFile: GateFinder_1.27.0.zip PackageFileSize: 866.9 KiB