Package: GateFinder Version: 1.27.0 Command: chmod a+r GateFinder -R && E:\biocbuild\bbs-3.21-bioc\R\bin\R.exe CMD build --keep-empty-dirs --no-resave-data GateFinder StartedAt: 2025-02-09 18:48:50 -0500 (Sun, 09 Feb 2025) EndedAt: 2025-02-09 18:49:23 -0500 (Sun, 09 Feb 2025) EllapsedTime: 32.6 seconds RetCode: 0 Status: OK PackageFile: GateFinder_1.27.0.tar.gz PackageFileSize: 481.1 KiB