Package: GateFinder Version: 1.27.0 Command: E:\biocbuild\bbs-3.21-bioc\R\bin\R.exe CMD check --no-multiarch --install=check:GateFinder.install-out.txt --library=E:\biocbuild\bbs-3.21-bioc\R\library --no-vignettes --timings GateFinder_1.27.0.tar.gz StartedAt: 2025-02-10 01:15:16 -0500 (Mon, 10 Feb 2025) EndedAt: 2025-02-10 01:16:44 -0500 (Mon, 10 Feb 2025) EllapsedTime: 87.9 seconds RetCode: 0 Status: WARNINGS CheckDir: GateFinder.Rcheck Warnings: 1