Package: GateFinder Version: 1.27.0 Command: E:\biocbuild\bbs-3.21-bioc\R\bin\R.exe CMD INSTALL GateFinder StartedAt: 2025-02-04 15:57:24 -0500 (Tue, 04 Feb 2025) EndedAt: 2025-02-04 15:57:46 -0500 (Tue, 04 Feb 2025) EllapsedTime: 22.1 seconds RetCode: 0 Status: OK