Package: GenProSeq Version: 1.11.0 Command: /Library/Frameworks/R.framework/Resources/bin/R CMD build --keep-empty-dirs --no-resave-data GenProSeq StartedAt: 2025-02-09 16:53:20 -0500 (Sun, 09 Feb 2025) EndedAt: 2025-02-09 16:53:56 -0500 (Sun, 09 Feb 2025) EllapsedTime: 35.5 seconds RetCode: 1 Status: ERROR PackageFile: None PackageFileSize: NA