Package: GenProSeq Version: 1.11.0 Command: /Library/Frameworks/R.framework/Resources/bin/R CMD INSTALL GenProSeq StartedAt: 2025-02-12 15:45:15 -0500 (Wed, 12 Feb 2025) EndedAt: 2025-02-12 15:45:29 -0500 (Wed, 12 Feb 2025) EllapsedTime: 14.4 seconds RetCode: 0 Status: OK