Package: GenProSeq Version: 1.11.0 Command: /home/biocbuild/bbs-3.21-bioc/R/bin/R CMD build --keep-empty-dirs --no-resave-data GenProSeq StartedAt: 2025-02-09 17:23:41 -0500 (Sun, 09 Feb 2025) EndedAt: 2025-02-09 17:24:04 -0500 (Sun, 09 Feb 2025) EllapsedTime: 23.0 seconds RetCode: 0 Status: OK PackageFile: GenProSeq_1.11.0.tar.gz PackageFileSize: 1.115 MiB