Package: GenProSeq Version: 1.11.0 Command: chmod a+r GenProSeq -R && E:\biocbuild\bbs-3.21-bioc\R\bin\R.exe --arch x64 CMD build --keep-empty-dirs --no-resave-data GenProSeq StartedAt: 2025-02-12 19:00:07 -0500 (Wed, 12 Feb 2025) EndedAt: 2025-02-12 19:03:16 -0500 (Wed, 12 Feb 2025) EllapsedTime: 189.5 seconds RetCode: 1 Status: ERROR PackageFile: None PackageFileSize: NA