Package: GeneBreak Version: 1.37.0 Command: /Library/Frameworks/R.framework/Resources/bin/R CMD build --keep-empty-dirs --no-resave-data GeneBreak StartedAt: 2025-02-03 17:00:32 -0500 (Mon, 03 Feb 2025) EndedAt: 2025-02-03 17:00:46 -0500 (Mon, 03 Feb 2025) EllapsedTime: 14.2 seconds RetCode: 0 Status: OK PackageFile: GeneBreak_1.37.0.tar.gz PackageFileSize: 4.274 MiB