Package: GeneBreak Version: 1.37.0 Command: /Library/Frameworks/R.framework/Resources/bin/R CMD check --install=check:GeneBreak.install-out.txt --library=/Library/Frameworks/R.framework/Resources/library --no-vignettes --timings GeneBreak_1.37.0.tar.gz StartedAt: 2025-02-09 19:20:24 -0500 (Sun, 09 Feb 2025) EndedAt: 2025-02-09 19:21:25 -0500 (Sun, 09 Feb 2025) EllapsedTime: 60.9 seconds RetCode: 0 Status: OK CheckDir: GeneBreak.Rcheck Warnings: 0