Package: GeneBreak Version: 1.37.0 Command: /Library/Frameworks/R.framework/Resources/bin/R CMD INSTALL GeneBreak StartedAt: 2025-02-09 15:13:00 -0500 (Sun, 09 Feb 2025) EndedAt: 2025-02-09 15:13:07 -0500 (Sun, 09 Feb 2025) EllapsedTime: 6.9 seconds RetCode: 0 Status: OK