Package: GeneBreak Version: 1.37.0 Command: /home/biocbuild/R/R/bin/R CMD check --install=check:GeneBreak.install-out.txt --library=/home/biocbuild/R/R/site-library --no-vignettes --timings GeneBreak_1.37.0.tar.gz StartedAt: 2025-01-28 10:50:21 -0000 (Tue, 28 Jan 2025) EndedAt: 2025-01-28 10:53:37 -0000 (Tue, 28 Jan 2025) EllapsedTime: 195.2 seconds RetCode: 0 Status: OK CheckDir: GeneBreak.Rcheck Warnings: 0