Package: GeneBreak Version: 1.37.0 Command: /Library/Frameworks/R.framework/Resources/bin/R CMD INSTALL GeneBreak StartedAt: 2025-02-03 15:26:05 -0500 (Mon, 03 Feb 2025) EndedAt: 2025-02-03 15:26:35 -0500 (Mon, 03 Feb 2025) EllapsedTime: 30.2 seconds RetCode: 0 Status: OK