Package: GeneBreak Version: 1.37.0 Command: /home/biocbuild/bbs-3.21-bioc/R/bin/R CMD INSTALL GeneBreak StartedAt: 2025-02-09 15:16:04 -0500 (Sun, 09 Feb 2025) EndedAt: 2025-02-09 15:16:21 -0500 (Sun, 09 Feb 2025) EllapsedTime: 17.4 seconds RetCode: 0 Status: OK