Package: GeneBreak Version: 1.37.0 Command: rm -rf GeneBreak.buildbin-libdir && mkdir GeneBreak.buildbin-libdir && E:\biocbuild\bbs-3.21-bioc\R\bin\R.exe CMD INSTALL --build --library=GeneBreak.buildbin-libdir GeneBreak_1.37.0.tar.gz StartedAt: 2025-02-04 08:01:24 -0500 (Tue, 04 Feb 2025) EndedAt: 2025-02-04 08:02:13 -0500 (Tue, 04 Feb 2025) EllapsedTime: 49.0 seconds RetCode: 0 Status: OK PackageFile: GeneBreak_1.37.0.zip PackageFileSize: 4.45 MiB