Package: GeneBreak Version: 1.37.0 Command: chmod a+r GeneBreak -R && E:\biocbuild\bbs-3.21-bioc\R\bin\R.exe CMD build --keep-empty-dirs --no-resave-data GeneBreak StartedAt: 2025-02-03 19:02:59 -0500 (Mon, 03 Feb 2025) EndedAt: 2025-02-03 19:03:57 -0500 (Mon, 03 Feb 2025) EllapsedTime: 58.0 seconds RetCode: 0 Status: OK PackageFile: GeneBreak_1.37.0.tar.gz PackageFileSize: 4.142 MiB