Package: GeneBreak Version: 1.37.0 Command: E:\biocbuild\bbs-3.21-bioc\R\bin\R.exe CMD INSTALL GeneBreak StartedAt: 2025-02-03 16:00:33 -0500 (Mon, 03 Feb 2025) EndedAt: 2025-02-03 16:01:28 -0500 (Mon, 03 Feb 2025) EllapsedTime: 55.5 seconds RetCode: 0 Status: OK