Package: GeneExpressionSignature Version: 1.53.0 Command: rm -rf GeneExpressionSignature.buildbin-libdir && mkdir GeneExpressionSignature.buildbin-libdir && /Users/biocbuild/BBS/utils/build-universal.sh GeneExpressionSignature_1.53.0.tar.gz /Library/Frameworks/R.framework/Resources/bin/R GeneExpressionSignature.buildbin-libdir StartedAt: 2025-02-09 22:15:20 -0500 (Sun, 09 Feb 2025) EndedAt: 2025-02-09 22:15:22 -0500 (Sun, 09 Feb 2025) EllapsedTime: 2.0 seconds RetCode: 0 Status: OK PackageFile: GeneExpressionSignature_1.53.0.tgz PackageFileSize: 2.527 MiB