Package: GeneExpressionSignature Version: 1.53.0 Command: /Library/Frameworks/R.framework/Resources/bin/R CMD INSTALL GeneExpressionSignature StartedAt: 2025-02-03 15:37:59 -0500 (Mon, 03 Feb 2025) EndedAt: 2025-02-03 15:38:01 -0500 (Mon, 03 Feb 2025) EllapsedTime: 1.9 seconds RetCode: 0 Status: OK