Package: GeneExpressionSignature Version: 1.53.0 Command: /home/biocbuild/R/R/bin/R CMD INSTALL GeneExpressionSignature StartedAt: 2025-01-29 19:34:10 -0000 (Wed, 29 Jan 2025) EndedAt: 2025-01-29 19:34:19 -0000 (Wed, 29 Jan 2025) EllapsedTime: 9.5 seconds RetCode: 0 Status: OK