Package: GeneExpressionSignature Version: 1.53.0 Command: rm -rf GeneExpressionSignature.buildbin-libdir && mkdir GeneExpressionSignature.buildbin-libdir && /Users/biocbuild/BBS/utils/build-universal.sh GeneExpressionSignature_1.53.0.tar.gz /Library/Frameworks/R.framework/Resources/bin/R GeneExpressionSignature.buildbin-libdir StartedAt: 2025-02-10 00:54:44 -0500 (Mon, 10 Feb 2025) EndedAt: 2025-02-10 00:54:51 -0500 (Mon, 10 Feb 2025) EllapsedTime: 7.0 seconds RetCode: 0 Status: OK PackageFile: GeneExpressionSignature_1.53.0.tgz PackageFileSize: 2.526 MiB