Package: GeneExpressionSignature Version: 1.53.0 Command: /Library/Frameworks/R.framework/Resources/bin/R CMD build --keep-empty-dirs --no-resave-data GeneExpressionSignature StartedAt: 2025-02-09 16:50:31 -0500 (Sun, 09 Feb 2025) EndedAt: 2025-02-09 16:51:08 -0500 (Sun, 09 Feb 2025) EllapsedTime: 36.7 seconds RetCode: 0 Status: OK PackageFile: GeneExpressionSignature_1.53.0.tar.gz PackageFileSize: 2.545 MiB