Package: GeneExpressionSignature Version: 1.53.0 Command: /Library/Frameworks/R.framework/Resources/bin/R CMD INSTALL GeneExpressionSignature StartedAt: 2025-02-09 15:06:36 -0500 (Sun, 09 Feb 2025) EndedAt: 2025-02-09 15:06:57 -0500 (Sun, 09 Feb 2025) EllapsedTime: 21.3 seconds RetCode: 0 Status: OK